BEGIN:VCALENDAR
VERSION:2.0
PRODID:-//Astromares PRE - ECPv6.15.20//NONSGML v1.0//EN
CALSCALE:GREGORIAN
METHOD:PUBLISH
X-WR-CALNAME:Astromares PRE
X-ORIGINAL-URL:https://pre.astromares.es
X-WR-CALDESC:Eventos para Astromares PRE
REFRESH-INTERVAL;VALUE=DURATION:PT1H
X-Robots-Tag:noindex
X-PUBLISHED-TTL:PT1H
BEGIN:VTIMEZONE
TZID:UTC
BEGIN:STANDARD
TZOFFSETFROM:+0000
TZOFFSETTO:+0000
TZNAME:UTC
DTSTART:20190101T000000
END:STANDARD
END:VTIMEZONE
BEGIN:VEVENT
DTSTART;TZID=UTC:20201004T210000
DTEND;TZID=UTC:20201004T223000
DTSTAMP:20260421T184542
CREATED:20201003T105830Z
LAST-MODIFIED:20201003T105830Z
UID:1436-1601845200-1601850600@pre.astromares.es
SUMMARY:Seguimiento de la ISS.
DESCRIPTION:Enmarcado dentro del programa de actividades de la Semana Internacional del Espacio\, del 4 al 10 de Octubre de 2020\, desde nuestro Canal de videos en Youtube se puede seguir la ISS.  Día 4 de octubre a las 21.00 h local ( 19.00 GMT ). El paso está previsto a las 21.55 h. Previamente\, José Manuel Espinosa presentará el evento e informará de las próximas actividades de la Asociación. A continuación daremos paso a David Galadí Enriquez que\, desde Granada\, comentará el paso dando una información detallada del recorrido así como algunos detalles más técnicos sobre este satélite. Para seguirlo hay que entrar en el canal\, en el siguiente enlace:  https://www.youtube.com/c/AsociaciónAstromares
URL:https://pre.astromares.es/actividades/seguimiento-de-la-iss/
LOCATION:Sevilla
ATTACH;FMTTYPE=image/jpeg:https://pre.astromares.es/wp-content/uploads/2020/10/ISS.jpg
END:VEVENT
BEGIN:VEVENT
DTSTART;TZID=UTC:20200911T210000
DTEND;TZID=UTC:20200923T233000
DTSTAMP:20260421T184542
CREATED:20201011T134742Z
LAST-MODIFIED:20201011T134908Z
UID:1453-1599858000-1600903800@pre.astromares.es
SUMMARY:Ciencia al fresquito: Observación de la Luna en Benacazón
DESCRIPTION:Una observación astronómica con motivo de la celebración del InOMN\, el Día internacional de\nobservación de la Luna. \nPROGRAMA\n1ª Parte. Presentación.\nExplicaremos que la actividad se enmarca dentro del InOMN  Día internacional de\nobservación de la Luna) y que ha sido posible por la colaboración de la Fundación\nDescubre (Programa Ciencia al Fresquito)\, RAdA y Ayuntamiento de Benacazón. Nos\npresentaremos y brevemente explicaremos cómo se pueden seguir las actividades de\nAstromares. \n2ª Parte. La Luna.\nCharla introductoria en la que se explicará el origen de nuestro satélite\, teorías sobre su\nformación\, composición\, importancia para la vida en la Tierra\, las mareas\, etc. Geología\nlunar\, tierras y mares. ¿Por qué solo vemos una cara? ¿Cómo observar la luna con\ntelescopios? El terminador y accidentes geológicos más destacados visibles en este\nmomento. \n3ª Parte. Descripción del cielo nocturno.\nCon ayuda de punteros láser verde\, mostraremos las principales estrellas y\nconstelaciones visibles en esta época del año. Haremos especial mención a las\nconstelaciones del verano\, todavía visibles y las del otoño que salen por el horizonte\nEste. Se describirá la zona de las constelaciones circumpolares visibles en cualquier\népoca del año. Mostraremos los planetas Júpiter y Saturno y señalaremos por donde se\nhaya en estos momentos Plutón\, aunque no sea visible a simple vista ni siquiera con\nnuestros telescopios. Señalaremos también la zona de la galaxia de Andrómeda\, única\ngalaxia visible a simple vista desde el hemisferio norte en cielos sin contaminación\nlumínica. \n4ª Parte. Observación con telescopios.\nComenzaremos con la observación de la luna. A continuación\, los planetas Júpiter y\nSaturno\, insistiendo en que se fijen en los detalles como anillos de Saturno y lunas.\nSi la calidad del cielo lo permite\, al final de la noche intentaríamos ver otros objetos de\ncielo profundo como la galaxia de Andrómeda y cúmulos de estrellas.\nHora prevista de finalizar\, alrededor de las 23.30 horas.
URL:https://pre.astromares.es/actividades/ciencia-al-fresquito-observacion-de-la-luna-en-benacazon/
LOCATION:Sevilla
CATEGORIES:Observaciones
ATTACH;FMTTYPE=image/jpeg:https://pre.astromares.es/wp-content/uploads/2020/10/v2osk-pi8LjnWrrHY-unsplash.jpg
END:VEVENT
BEGIN:VEVENT
DTSTART;TZID=UTC:20200812T220000
DTEND;TZID=UTC:20200813T013000
DTSTAMP:20260421T184542
CREATED:20200721T183217Z
LAST-MODIFIED:20200731T213616Z
UID:1069-1597269600-1597282200@pre.astromares.es
SUMMARY:Observación de Las Perseidas
DESCRIPTION:  \nOrganizado por la Concejalía de juventud del Ayuntamiento de Tomares\, el próximo 12 de agosto estaremos en el área de descanso de El Murtal. Tendremos ocasión de observar la lluvia de estrellas fugaces más populares del año: Las Perseidas. \nSe recomienda ropa cómoda\, algo de abrigo y zapatos cerrados así como una manta\, y tumbona para contemplar cómodamente los casi 100 meteoros por hora que se esperan en el momento del máximo. \nAforo limitado.  \nInformación e inscripciones en juventud@tomares.es.
URL:https://pre.astromares.es/actividades/observacion-de-las-perseidas/
LOCATION:Área de descanso El Murtal. El Ronquillo\, El Ronquillo\, Sevilla
CATEGORIES:Observaciones
ATTACH;FMTTYPE=image/jpeg:https://pre.astromares.es/wp-content/uploads/2020/07/Perseidas-20-1_pages-to-jpg-0001.jpg
ORGANIZER;CN="Ayuntamiento de Tomares":MAILTO:juventud@tomares.es
END:VEVENT
BEGIN:VEVENT
DTSTART;TZID=UTC:20200624T190000
DTEND;TZID=UTC:20200624T190000
DTSTAMP:20260421T184542
CREATED:20200606T203034Z
LAST-MODIFIED:20200621T131708Z
UID:616-1593025200-1593025200@pre.astromares.es
SUMMARY:Videoconferencia: Astronews\, estrenamos web\, la forma del espacio y más
DESCRIPTION:Foto: Elaine Casap \n\nAstronews. las últimas novedades presentadas por José Manuel Espinosa y José María Moreno\, cada semana nos adentramos en diferentes temas con la ayuda de soportes visuales y turnos de preguntas.\nAstromares en la red. Presentamos nuestra nueva web.\nEl espacio es curvo. La forma del espacio\, una de las grandes preguntas astronómicas.\nCombustibles para cohetes. El impulso definitivo para salir de nuestra atmósfera.\nEl cielo de verano. La caza de astros\, una actividad imprescindible en las noches veraniegas. \n\n  \nPara seguir la sesión\, contacta vía WhatsApp con la asociación en el 638147022.
URL:https://pre.astromares.es/actividades/videoconferencia-5/
LOCATION:Google Meet
CATEGORIES:Actividad On Line
ATTACH;FMTTYPE=image/jpeg:https://pre.astromares.es/wp-content/uploads/2020/06/elaine-casap-iKlRhtlubag-unsplash.jpg
END:VEVENT
BEGIN:VEVENT
DTSTART;TZID=UTC:20200617T190000
DTEND;TZID=UTC:20200618T080000
DTSTAMP:20260421T184542
CREATED:20200606T201838Z
LAST-MODIFIED:20200618T080551Z
UID:609-1592420400-1592467200@pre.astromares.es
SUMMARY:Videoconferencia: Astronews\, un viaje al final de Sistema Solar y  la respuesta a tus dudas
DESCRIPTION:Imagen: NASA \n\nAstronews. las últimas novedades presentadas por José Manuel Espinosa y José María Moreno\, cada semana nos adentramos en diferentes temas con la ayuda de soportes visuales y turnos de preguntas.\nEn los confines del Sistema Solar. El cinturón de Kuiper y la nube de Oort. Con José Manuel Espinosa. \nPregúntale a Astromares. No te quedes con las dudas en astronomía. \n\nPara seguir la sesión\, contacta vía WhatsApp con la asociación en el 638147022.
URL:https://pre.astromares.es/actividades/videoconferencia-3/
LOCATION:Google Meet
CATEGORIES:Actividad On Line
ATTACH;FMTTYPE=image/jpeg:https://pre.astromares.es/wp-content/uploads/2020/06/NASA-JPL-Caltech_-_Double_the_Rubble_PIA11375_pd-1.jpg
END:VEVENT
BEGIN:VEVENT
DTSTART;TZID=UTC:20200610T190000
DTEND;TZID=UTC:20200610T190000
DTSTAMP:20260421T184542
CREATED:20200524T174150Z
LAST-MODIFIED:20200606T210230Z
UID:462-1591815600-1591815600@pre.astromares.es
SUMMARY:Videoconferencia: castástrofes de proporciones astronómicas y el futuro del Universo
DESCRIPTION:(Foto por NASA Goddard Space Flight Center – Flickr: Magnificent CME Erupts on the Sun – August 31\, CC BY 2.0\, https://commons.wikimedia.org/w/index.php?curid=21422679) \nCon las noticias semanales relacionadas con el cosmos que nos traerán José Manuel Espinosa y José María Moreno.\n«¡Que viene el lobo!». Asteroides\, supernovas\, el Sol: ¿peligro?. Con Manuel Fernández.  \n«El futuro del Universo». El peor de los finales. Con Antonio González. \nPara seguir la sesión\, contacta vía WhatsApp con la asociación en el 638147022.
URL:https://pre.astromares.es/actividades/videoconferencia-2/
LOCATION:Google Meet
CATEGORIES:Actividad On Line
ATTACH;FMTTYPE=image/jpeg:https://pre.astromares.es/wp-content/uploads/2020/05/640px-Magnificent_CME_Erupts_on_the_Sun_-_August_31.jpg
END:VEVENT
BEGIN:VEVENT
DTSTART;TZID=UTC:20200603T193000
DTEND;TZID=UTC:20200603T193000
DTSTAMP:20260421T184542
CREATED:20200524T173839Z
LAST-MODIFIED:20200531T095740Z
UID:459-1591212600-1591212600@pre.astromares.es
SUMMARY:Videoconferencia
DESCRIPTION:EL PROBLEMA DE LA LONGITUD EN LA NAVEGACIÓN. ¿Te imaginas cómo se orientaban antiguamente los barcos por la noche ? La estrella Polar indicaba la latitud pero\, ¿y la longitud? La luna permitía hacer una estimación de la ubicación. Astronomía\, Geografía y Navegación en esta charla del próximo miércoles a cargo de Manuel Jiménez. \nOBSERVATORIOS ASTRONÓMICOS DEL MUNDO. Los principales y mejor equipados observatorios astronómicos del mundo presentados por Cristobal Mancheño. \nASTROMARES NEWS. Como es habitual\, noticias de Astronomía que nos trae José Manuel Espinosa y José María Moreno.  \nPara solicitar seguir la sesión\, contacta vía WhatsApp con la asociación en el 638147022.
URL:https://pre.astromares.es/actividades/videoconferencia/
LOCATION:Google Meet
CATEGORIES:Actividad On Line
ATTACH;FMTTYPE=image/jpeg:https://pre.astromares.es/wp-content/uploads/2020/05/zoltan-tasi-dOlBjtJfFkk-unsplash.jpg
END:VEVENT
BEGIN:VEVENT
DTSTART;TZID=UTC:20200527T193000
DTEND;TZID=UTC:20200527T193000
DTSTAMP:20260421T184542
CREATED:20200524T172655Z
LAST-MODIFIED:20200524T172818Z
UID:454-1590607800-1590607800@pre.astromares.es
SUMMARY:Videoconferencia: Astronomía\, Paisajes y Momumentos
DESCRIPTION:Además de las noticias relacionadas con el cosmos que nos traerán José Manuel Espinosa y José María Moreno\, esta semana presentamos una selección de bellas imágenes comentadas por sus propios autores.\nCon Fº José Casado\, Laura Fernández\, Eva González\, Francisco Gil\, Antonio Jiménmez y Manuel Jiménez. \nPara seguir la sesión\, contacta por WhatsApp con la asociación en el 638147022.
URL:https://pre.astromares.es/actividades/videoconferencia-astronomia-paisajes-y-momumentos/
LOCATION:Google Meet
CATEGORIES:Actividad On Line
ATTACH;FMTTYPE=image/jpeg:https://pre.astromares.es/wp-content/uploads/2020/05/eberhard-grossgasteiger-u4RMq06Qg3M-unsplash.jpg
END:VEVENT
END:VCALENDAR