BEGIN:VCALENDAR
VERSION:2.0
PRODID:-//Astromares PRE - ECPv6.15.20//NONSGML v1.0//EN
CALSCALE:GREGORIAN
METHOD:PUBLISH
X-ORIGINAL-URL:https://pre.astromares.es
X-WR-CALDESC:Eventos para Astromares PRE
REFRESH-INTERVAL;VALUE=DURATION:PT1H
X-Robots-Tag:noindex
X-PUBLISHED-TTL:PT1H
BEGIN:VTIMEZONE
TZID:UTC
BEGIN:STANDARD
TZOFFSETFROM:+0000
TZOFFSETTO:+0000
TZNAME:UTC
DTSTART:20190101T000000
END:STANDARD
END:VTIMEZONE
BEGIN:VEVENT
DTSTART;TZID=UTC:20200610T190000
DTEND;TZID=UTC:20200610T190000
DTSTAMP:20260421T200853
CREATED:20200524T174150Z
LAST-MODIFIED:20200606T210230Z
UID:462-1591815600-1591815600@pre.astromares.es
SUMMARY:Videoconferencia: castástrofes de proporciones astronómicas y el futuro del Universo
DESCRIPTION:(Foto por NASA Goddard Space Flight Center – Flickr: Magnificent CME Erupts on the Sun – August 31\, CC BY 2.0\, https://commons.wikimedia.org/w/index.php?curid=21422679) \nCon las noticias semanales relacionadas con el cosmos que nos traerán José Manuel Espinosa y José María Moreno.\n«¡Que viene el lobo!». Asteroides\, supernovas\, el Sol: ¿peligro?. Con Manuel Fernández.  \n«El futuro del Universo». El peor de los finales. Con Antonio González. \nPara seguir la sesión\, contacta vía WhatsApp con la asociación en el 638147022.
URL:https://pre.astromares.es/actividades/videoconferencia-2/
LOCATION:Google Meet
CATEGORIES:Actividad On Line
ATTACH;FMTTYPE=image/jpeg:https://pre.astromares.es/wp-content/uploads/2020/05/640px-Magnificent_CME_Erupts_on_the_Sun_-_August_31.jpg
END:VEVENT
BEGIN:VEVENT
DTSTART;TZID=UTC:20200603T193000
DTEND;TZID=UTC:20200603T193000
DTSTAMP:20260421T200853
CREATED:20200524T173839Z
LAST-MODIFIED:20200531T095740Z
UID:459-1591212600-1591212600@pre.astromares.es
SUMMARY:Videoconferencia
DESCRIPTION:EL PROBLEMA DE LA LONGITUD EN LA NAVEGACIÓN. ¿Te imaginas cómo se orientaban antiguamente los barcos por la noche ? La estrella Polar indicaba la latitud pero\, ¿y la longitud? La luna permitía hacer una estimación de la ubicación. Astronomía\, Geografía y Navegación en esta charla del próximo miércoles a cargo de Manuel Jiménez. \nOBSERVATORIOS ASTRONÓMICOS DEL MUNDO. Los principales y mejor equipados observatorios astronómicos del mundo presentados por Cristobal Mancheño. \nASTROMARES NEWS. Como es habitual\, noticias de Astronomía que nos trae José Manuel Espinosa y José María Moreno.  \nPara solicitar seguir la sesión\, contacta vía WhatsApp con la asociación en el 638147022.
URL:https://pre.astromares.es/actividades/videoconferencia/
LOCATION:Google Meet
CATEGORIES:Actividad On Line
ATTACH;FMTTYPE=image/jpeg:https://pre.astromares.es/wp-content/uploads/2020/05/zoltan-tasi-dOlBjtJfFkk-unsplash.jpg
END:VEVENT
BEGIN:VEVENT
DTSTART;TZID=UTC:20200527T193000
DTEND;TZID=UTC:20200527T193000
DTSTAMP:20260421T200853
CREATED:20200524T172655Z
LAST-MODIFIED:20200524T172818Z
UID:454-1590607800-1590607800@pre.astromares.es
SUMMARY:Videoconferencia: Astronomía\, Paisajes y Momumentos
DESCRIPTION:Además de las noticias relacionadas con el cosmos que nos traerán José Manuel Espinosa y José María Moreno\, esta semana presentamos una selección de bellas imágenes comentadas por sus propios autores.\nCon Fº José Casado\, Laura Fernández\, Eva González\, Francisco Gil\, Antonio Jiménmez y Manuel Jiménez. \nPara seguir la sesión\, contacta por WhatsApp con la asociación en el 638147022.
URL:https://pre.astromares.es/actividades/videoconferencia-astronomia-paisajes-y-momumentos/
LOCATION:Google Meet
CATEGORIES:Actividad On Line
ATTACH;FMTTYPE=image/jpeg:https://pre.astromares.es/wp-content/uploads/2020/05/eberhard-grossgasteiger-u4RMq06Qg3M-unsplash.jpg
END:VEVENT
END:VCALENDAR